View In:
ArcGIS JavaScript
ArcGIS Online Map Viewer
ArcGIS Earth
ArcMap
View Footprint In:
ArcGIS Online Map Viewer
Service Description: 1) Downloaded daily near real time VIIRS hot spot data, with lat/lon and Fire Radiative Power (FRP) data, from the following sources:
- ftp://ftp.star.nesdis.noaa.gov/pub/smcd/emb/fire/VIIRS/VIIRS_375m_SNPP
- ftp://ftp.star.nesdis.noaa.gov/pub/smcd/emb/fire/VIIRS/VIIRS_375m_NOAA20
2) Data is filtered to only include closest to nadir data points from NOAA20 or SNPP
3) A gridded geotiff of hot spot detections is created, and overlaid with 500m MODIS landcover tiles, so that FRP per landcover type can be summed, for each GFED fire type: Deforested, Temperate Forest, Boreal Forest, Savannah, Agriculture, Peat.
4) Emissions estimates are calculated by multiplying various FRPs per fire type with teh GFED4_Emissions_Factors table, creating the 6 band output of emissions estimates: 1) Dry matter, 2) carbon, 3) carbon dioxide, 4) carbon monoxide, 5) methane, 6) particulate matter.
Name: gfed/VIIRS_nrt_dailyEmissions
Description: 1) Downloaded daily near real time VIIRS hot spot data, with lat/lon and Fire Radiative Power (FRP) data, from the following sources:
- ftp://ftp.star.nesdis.noaa.gov/pub/smcd/emb/fire/VIIRS/VIIRS_375m_SNPP
- ftp://ftp.star.nesdis.noaa.gov/pub/smcd/emb/fire/VIIRS/VIIRS_375m_NOAA20
2) Data is filtered to only include closest to nadir data points from NOAA20 or SNPP
3) A gridded geotiff of hot spot detections is created, and overlaid with 500m MODIS landcover tiles, so that FRP per landcover type can be summed, for each GFED fire type: Deforested, Temperate Forest, Boreal Forest, Savannah, Agriculture, Peat.
4) Emissions estimates are calculated by multiplying various FRPs per fire type with teh GFED4_Emissions_Factors table, creating the 6 band output of emissions estimates: 1) Dry matter, 2) carbon, 3) carbon dioxide, 4) carbon monoxide, 5) methane, 6) particulate matter.
Single Fused Map Cache: false
Extent:
XMin: -180
YMin: -90
XMax: 180
YMax: 90
Spatial Reference: 4326
(4326)
Initial Extent:
XMin: -180
YMin: -90
XMax: 180
YMax: 90
Spatial Reference: 4326
(4326)
Full Extent:
XMin: -180
YMin: -90
XMax: 180
YMax: 90
Spatial Reference: 4326
(4326)
Time Info:
Start Time Field: Date
End Time Field: null
Time Extent:
[2019/04/01 00:00:00 UTC, 2021/02/25 00:00:00 UTC]
Time Reference:
N/A
Pixel Size X: 0.25
Pixel Size Y: 0.25
Band Count: 6
Pixel Type: F32
RasterFunction Infos: {"rasterFunctionInfos": [
{
"name": "c_stretched_0_833",
"description": "Display Carbon (c), band 2, in blues, with a stretch from 0 to 833.",
"help": ""
},
{
"name": "ch4_stretched_0_11",
"description": "Display Methane (ch4), band 5, in purples, with a stretch from 0 to 11.",
"help": ""
},
{
"name": "co_stretched_0_227",
"description": "Display Carbon Monoxide (co), band 4, in blues, with a stretch from 0 to 227.",
"help": ""
},
{
"name": "co2_stretched_0_2670",
"description": "A raster function template.",
"help": ""
},
{
"name": "dm_stretched_0_1792",
"description": "Display Dry Matter (dm), band 1, in browns, with a stretch from 0 to 1792.",
"help": ""
},
{
"name": "pm_stretched_0_27",
"description": "Display Particulate Matter (pm25), band 6, in pinks, with a stretch from 0 to 27.",
"help": ""
},
{
"name": "None",
"description": "",
"help": ""
}
]}
Mensuration Capabilities: Basic
Has Histograms: true
Has Colormap: false
Has Multi Dimensions : false
Rendering Rule:
Min Scale: 0
Max Scale: 0
Copyright Text: NASA/GFSC, GFED, Niels Andela
Service Data Type: esriImageServiceDataTypeGeneric
Min Values: 0.7658315300941467, 0.3577965497970581, 1.1546497344970703, 0.09260626137256622, 0.004272005055099726, 0.011125975288450718
Max Values: 1791.6960160732667, 833.3709071874811, 2669.96691036231, 226.85292056203133, 10.635012503713442, 27.324982568621923
Mean Values: 0.8860075051750212, 0.4148901988743277, 1.3481157076010721, 0.10417435425057174, 0.00477572754224635, 0.01247870761182363
Standard Deviation Values: 3.4556844866105667, 1.6211739639196485, 5.271243651893893, 0.40794449604747723, 0.018927067995150523, 0.04886469428385442
Object ID Field: OBJECTID
Fields:
-
OBJECTID
(
type: esriFieldTypeOID, alias: OBJECTID
)
-
Shape
(
type: esriFieldTypeGeometry, alias: Shape
)
-
Name
(
type: esriFieldTypeString, alias: Name, length: 200
)
-
MinPS
(
type: esriFieldTypeDouble, alias: MinPS
)
-
MaxPS
(
type: esriFieldTypeDouble, alias: MaxPS
)
-
LowPS
(
type: esriFieldTypeDouble, alias: LowPS
)
-
HighPS
(
type: esriFieldTypeDouble, alias: HighPS
)
-
Category
(
type: esriFieldTypeInteger, alias: Category
, Coded Values:
[0: Unknown]
, [1: Primary]
, [2: Overview]
, ...6 more...
)
-
Tag
(
type: esriFieldTypeString, alias: Tag, length: 100
)
-
GroupName
(
type: esriFieldTypeString, alias: GroupName, length: 100
)
-
ProductName
(
type: esriFieldTypeString, alias: ProductName, length: 100
)
-
CenterX
(
type: esriFieldTypeDouble, alias: CenterX
)
-
CenterY
(
type: esriFieldTypeDouble, alias: CenterY
)
-
ZOrder
(
type: esriFieldTypeInteger, alias: ZOrder
)
-
Shape_Length
(
type: esriFieldTypeDouble, alias: Shape_Length
)
-
Shape_Area
(
type: esriFieldTypeDouble, alias: Shape_Area
)
-
Date
(
type: esriFieldTypeDate, alias: Date, length: 8
)
Default Mosaic Method: Northwest
Allowed Mosaic Methods: NorthWest,Center,LockRaster,ByAttribute,Nadir,Viewpoint,Seamline,None
SortField:
SortValue: null
Mosaic Operator: First
Default Compression Quality: 75
Default Resampling Method: Nearest
Max Record Count: 1000
Max Image Height: 4100
Max Image Width: 15000
Max Download Image Count: 20
Max Mosaic Image Count: 20
Allow Raster Function: true
Allow Compute TiePoints: false
Supports Statistics: true
Supports Advanced Queries: true
Use StandardizedQueries: true
Raster Type Infos:
Name: Raster Dataset
Description: Supports all ArcGIS Raster Datasets
Help:
Has Raster Attribute Table: false
Edit Fields Info: null
Ownership Based AccessControl For Rasters: null
Child Resources:
Info
Histograms
Key Properties
Legend
MultiDimensionalInfo
rasterFunctionInfos
Supported Operations:
Export Image
Query
Identify
Download Rasters
Measure
Compute Histograms
Compute Statistics Histograms
Get Samples
Compute Class Statistics
Query Boundary
Compute Pixel Location