{
 "currentVersion": 10.71,
 "serviceDescription": "1) Downloaded daily near real time VIIRS hot spot data, with lat/lon and Fire Radiative Power (FRP) data, from the following sources:\n- ftp://ftp.star.nesdis.noaa.gov/pub/smcd/emb/fire/VIIRS/VIIRS_375m_SNPP\n- ftp://ftp.star.nesdis.noaa.gov/pub/smcd/emb/fire/VIIRS/VIIRS_375m_NOAA20\n2) Data is filtered to only include closest to nadir data points from NOAA20 or SNPP\n3) A gridded geotiff of hot spot detections is created, and overlaid with 500m MODIS landcover tiles, so that FRP per landcover type can be summed, for each GFED fire type: Deforested, Temperate Forest, Boreal Forest, Savannah, Agriculture, Peat.\n4) Emissions estimates are calculated by multiplying various FRPs per fire type with teh GFED4_Emissions_Factors table, creating the 6 band output of emissions estimates: 1) Dry matter, 2) carbon, 3) carbon dioxide, 4) carbon monoxide, 5) methane, 6) particulate matter.",
 "name": "gfed/VIIRS_nrt_dailyEmissions",
 "description": "1) Downloaded daily near real time VIIRS hot spot data, with lat/lon and Fire Radiative Power (FRP) data, from the following sources:\n- ftp://ftp.star.nesdis.noaa.gov/pub/smcd/emb/fire/VIIRS/VIIRS_375m_SNPP\n- ftp://ftp.star.nesdis.noaa.gov/pub/smcd/emb/fire/VIIRS/VIIRS_375m_NOAA20\n2) Data is filtered to only include closest to nadir data points from NOAA20 or SNPP\n3) A gridded geotiff of hot spot detections is created, and overlaid with 500m MODIS landcover tiles, so that FRP per landcover type can be summed, for each GFED fire type: Deforested, Temperate Forest, Boreal Forest, Savannah, Agriculture, Peat.\n4) Emissions estimates are calculated by multiplying various FRPs per fire type with teh GFED4_Emissions_Factors table, creating the 6 band output of emissions estimates: 1) Dry matter, 2) carbon, 3) carbon dioxide, 4) carbon monoxide, 5) methane, 6) particulate matter.",
 "extent": {
  "xmin": -180,
  "ymin": -90,
  "xmax": 180,
  "ymax": 90,
  "spatialReference": {
   "wkid": 4326,
   "latestWkid": 4326
  }
 },
 "initialExtent": {
  "xmin": -180,
  "ymin": -90,
  "xmax": 180,
  "ymax": 90,
  "spatialReference": {
   "wkid": 4326,
   "latestWkid": 4326
  }
 },
 "fullExtent": {
  "xmin": -180,
  "ymin": -90,
  "xmax": 180,
  "ymax": 90,
  "spatialReference": {
   "wkid": 4326,
   "latestWkid": 4326
  }
 },
 "timeInfo": {
  "startTimeField": "Date",
  "endTimeField": null,
  "timeExtent": [
   1554076800000,
   1663113600000
  ],
  "timeReference": null,
  "defaultTimeInterval": 1.7046700221509357E248,
  "defaultTimeIntervalUnits": "esriTimeUnitsUnknown"
 },
 "pixelSizeX": 0.25,
 "pixelSizeY": 0.25,
 "bandCount": 6,
 "pixelType": "F32",
 "minPixelSize": 0,
 "maxPixelSize": 0,
 "copyrightText": "NASA/GFSC, GFED, Niels Andela",
 "serviceDataType": "esriImageServiceDataTypeGeneric",
 "minValues": [
  0.7658315300941467,
  0.3577965497970581,
  1.1546497344970703,
  0.09260626137256622,
  0.004272005055099726,
  0.011125975288450718
 ],
 "maxValues": [
  1791.6960160732667,
  833.3709071874811,
  2669.96691036231,
  226.85292056203133,
  10.635012503713442,
  27.324982568621923
 ],
 "meanValues": [
  0.8860075051750212,
  0.4148901988743277,
  1.3481157076010721,
  0.10417435425057174,
  0.00477572754224635,
  0.01247870761182363
 ],
 "stdvValues": [
  3.4556844866105667,
  1.6211739639196485,
  5.271243651893893,
  0.40794449604747723,
  0.018927067995150523,
  0.04886469428385442
 ],
 "objectIdField": "OBJECTID",
 "fields": [
  {
   "name": "OBJECTID",
   "type": "esriFieldTypeOID",
   "alias": "OBJECTID",
   "domain": null
  },
  {
   "name": "Shape",
   "type": "esriFieldTypeGeometry",
   "alias": "Shape",
   "domain": null
  },
  {
   "name": "Name",
   "type": "esriFieldTypeString",
   "alias": "Name",
   "domain": null,
   "length": 200
  },
  {
   "name": "MinPS",
   "type": "esriFieldTypeDouble",
   "alias": "MinPS",
   "domain": null
  },
  {
   "name": "MaxPS",
   "type": "esriFieldTypeDouble",
   "alias": "MaxPS",
   "domain": null
  },
  {
   "name": "LowPS",
   "type": "esriFieldTypeDouble",
   "alias": "LowPS",
   "domain": null
  },
  {
   "name": "HighPS",
   "type": "esriFieldTypeDouble",
   "alias": "HighPS",
   "domain": null
  },
  {
   "name": "Category",
   "type": "esriFieldTypeInteger",
   "alias": "Category",
   "domain": {
    "type": "codedValue",
    "name": "MosaicCatalogItemCategoryDomain",
    "description": "Catalog item categories.",
    "codedValues": [
     {
      "name": "Unknown",
      "code": 0
     },
     {
      "name": "Primary",
      "code": 1
     },
     {
      "name": "Overview",
      "code": 2
     },
     {
      "name": "Unprocessed Overview",
      "code": 3
     },
     {
      "name": "Partial Overview",
      "code": 4
     },
     {
      "name": "Inactive",
      "code": 5
     },
     {
      "name": "Uploaded",
      "code": 253
     },
     {
      "name": "Incomplete",
      "code": 254
     },
     {
      "name": "Custom",
      "code": 255
     }
    ],
    "mergePolicy": "esriMPTDefaultValue",
    "splitPolicy": "esriSPTDefaultValue"
   }
  },
  {
   "name": "Tag",
   "type": "esriFieldTypeString",
   "alias": "Tag",
   "domain": null,
   "length": 100
  },
  {
   "name": "GroupName",
   "type": "esriFieldTypeString",
   "alias": "GroupName",
   "domain": null,
   "length": 100
  },
  {
   "name": "ProductName",
   "type": "esriFieldTypeString",
   "alias": "ProductName",
   "domain": null,
   "length": 100
  },
  {
   "name": "CenterX",
   "type": "esriFieldTypeDouble",
   "alias": "CenterX",
   "domain": null
  },
  {
   "name": "CenterY",
   "type": "esriFieldTypeDouble",
   "alias": "CenterY",
   "domain": null
  },
  {
   "name": "ZOrder",
   "type": "esriFieldTypeInteger",
   "alias": "ZOrder",
   "domain": null
  },
  {
   "name": "Shape_Length",
   "type": "esriFieldTypeDouble",
   "alias": "Shape_Length",
   "domain": null
  },
  {
   "name": "Shape_Area",
   "type": "esriFieldTypeDouble",
   "alias": "Shape_Area",
   "domain": null
  },
  {
   "name": "Date",
   "type": "esriFieldTypeDate",
   "alias": "Date",
   "domain": null,
   "length": 8
  }
 ],
 "capabilities": "Catalog,Download,Image,Mensuration,Metadata",
 "defaultMosaicMethod": "Northwest",
 "allowedMosaicMethods": "NorthWest,Center,LockRaster,ByAttribute,Nadir,Viewpoint,Seamline,None",
 "sortField": "",
 "sortValue": null,
 "mosaicOperator": "First",
 "maxDownloadSizeLimit": 2048,
 "defaultCompressionQuality": 75,
 "defaultResamplingMethod": "Nearest",
 "maxImageHeight": 4100,
 "maxImageWidth": 15000,
 "maxRecordCount": 1000,
 "maxDownloadImageCount": 20,
 "maxMosaicImageCount": 20,
 "allowRasterFunction": true,
 "rasterFunctionInfos": [
  {
   "name": "c_stretched_0_833",
   "description": "Display Carbon (c), band 2, in blues, with a stretch from 0 to 833.",
   "help": ""
  },
  {
   "name": "ch4_stretched_0_11",
   "description": "Display Methane (ch4), band 5, in purples, with a stretch from 0 to 11.",
   "help": ""
  },
  {
   "name": "co_stretched_0_227",
   "description": "Display Carbon Monoxide (co), band 4, in blues, with a stretch from 0 to 227.",
   "help": ""
  },
  {
   "name": "co2_stretched_0_2670",
   "description": "A raster function template.",
   "help": ""
  },
  {
   "name": "dm_stretched_0_1792",
   "description": "Display Dry Matter (dm), band 1, in browns, with a stretch from 0 to 1792.",
   "help": ""
  },
  {
   "name": "pm_stretched_0_27",
   "description": "Display Particulate Matter (pm25), band 6, in pinks, with a stretch from 0 to 27.",
   "help": ""
  },
  {
   "name": "None",
   "description": "",
   "help": ""
  }
 ],
 "rasterTypeInfos": [
  {
   "name": "Raster Dataset",
   "description": "Supports all ArcGIS Raster Datasets",
   "help": ""
  }
 ],
 "mensurationCapabilities": "Basic",
 "hasHistograms": true,
 "hasColormap": false,
 "hasRasterAttributeTable": false,
 "minScale": 0,
 "maxScale": 0,
 "exportTilesAllowed": false,
 "hasMultidimensions": false,
 "supportsStatistics": true,
 "supportsAdvancedQueries": true,
 "editFieldsInfo": null,
 "ownershipBasedAccessControlForRasters": null,
 "allowComputeTiePoints": false,
 "useStandardizedQueries": true,
 "advancedQueryCapabilities": {
  "useStandardizedQueries": true,
  "supportsStatistics": true,
  "supportsOrderBy": true,
  "supportsDistinct": true,
  "supportsPagination": true
 },
 "spatialReference": {
  "wkid": 4326,
  "latestWkid": 4326
 }
}
