View In:
ArcGIS JavaScript
ArcGIS Online Map Viewer
ArcGIS Earth
ArcMap
View Footprint In:
ArcGIS Online Map Viewer
Service Description: gfed/MODIS_L2_gridded_dailyFireCount
Name: gfed/MODIS_L2_gridded_dailyFireCount
Description:
Single Fused Map Cache: false
Extent:
XMin: -180
YMin: -90
XMax: 180
YMax: 90
Spatial Reference: 4326
(4326)
Initial Extent:
XMin: -180
YMin: -90
XMax: 180
YMax: 90
Spatial Reference: 4326
(4326)
Full Extent:
XMin: -180
YMin: -90
XMax: 180
YMax: 90
Spatial Reference: 4326
(4326)
Time Info:
Start Time Field: Date
End Time Field: null
Time Extent:
[2003/01/01 00:00:00 UTC, 2022/04/01 00:00:00 UTC]
Time Reference:
N/A
Pixel Size X: 0.25
Pixel Size Y: 0.25
Band Count: 32
Pixel Type: S32
RasterFunction Infos: {"rasterFunctionInfos": [{
"name": "None",
"description": "A No-Op Function.",
"help": ""
}]}
Mensuration Capabilities: Basic
Has Histograms: true
Has Colormap: false
Has Multi Dimensions : false
Rendering Rule:
Min Scale: 0
Max Scale: 0
Copyright Text:
Service Data Type: esriImageServiceDataTypeGeneric
Min Values: 2.130859375, 0.525390625, 0.232421875, 0.291015625, 0.537109375, 0.123046875, 0.19921875, 0.33984375, 0.14453125, 0.11328125, 0.173828125, 0.16015625, 0.234375, 0.333984375, 0.154296875, 0.12890625, 0.1171875, 0.134765625, 0.109375, 0.126953125, 0.138671875, 0.115234375, 0.09375, 0.353515625, 0.083984375, 0.212890625, 0.12890625, 0.119140625, 0.1640625, 0.197265625, 0.4140625, 0.462890625
Max Values: 1088.87109375, 268.4765625, 118.767578125, 148.7109375, 274.462890625, 67.869140625, 101.802734375, 173.662109375, 73.85546875, 63.876953125, 88.826171875, 99.806640625, 119.767578125, 170.666015625, 78.84765625, 65.87109375, 59.8828125, 68.8671875, 55.890625, 76.8515625, 70.86328125, 75.853515625, 56.890625, 180.6484375, 88.828125, 108.787109375, 104.796875, 92.8203125, 83.837890625, 100.802734375, 211.587890625, 236.537109375
Mean Values: 2.4905175245732116, 0.5423319315812386, 0.2510713275176899, 0.3127541012105963, 0.5585563448927865, 0.14550540963290412, 0.22214896703733916, 0.3581257433970045, 0.16299913774114347, 0.13070472105147896, 0.1932912628909186, 0.17817997059631063, 0.2506223363498776, 0.3508741293653585, 0.17411457465164018, 0.14990942322704676, 0.13563035470457271, 0.14845403784148672, 0.12181844163542795, 0.1395065265384422, 0.1517584874808341, 0.1274278307216944, 0.10557634760258264, 0.36402793617813306, 0.09655641214291402, 0.2268801687169738, 0.14067610749503948, 0.1291242165571716, 0.1732614139333605, 0.20678678236821668, 0.4259645273594047, 0.47436699060672044
Standard Deviation Values: 5.630645172969912, 0.5376460163004949, 0.4121090217304266, 0.5247164671982385, 0.6605324042344637, 0.45792214800213454, 0.5196409855374896, 0.4483389157605315, 0.3964944463675686, 0.33400021389635504, 0.4395357455247749, 0.3778738773699696, 0.40901241280328343, 0.39664713748906105, 0.4079032033412277, 0.40859845306246306, 0.3543842223943649, 0.35543639458773724, 0.2931515724453198, 0.33344452539818065, 0.31870959772342355, 0.30416054053639774, 0.3085708416997409, 0.32663589785774055, 0.3008479520911257, 0.33663629258069744, 0.3330993189069963, 0.27827009408269626, 0.27888443853394773, 0.3117281380441614, 0.5302144114505813, 0.42446441292388454
Object ID Field: OBJECTID
Fields:
-
OBJECTID
(
type: esriFieldTypeOID, alias: OBJECTID
)
-
Shape
(
type: esriFieldTypeGeometry, alias: Shape
)
-
Name
(
type: esriFieldTypeString, alias: Name, length: 200
)
-
MinPS
(
type: esriFieldTypeDouble, alias: MinPS
)
-
MaxPS
(
type: esriFieldTypeDouble, alias: MaxPS
)
-
LowPS
(
type: esriFieldTypeDouble, alias: LowPS
)
-
HighPS
(
type: esriFieldTypeDouble, alias: HighPS
)
-
Category
(
type: esriFieldTypeInteger, alias: Category
, Coded Values:
[0: Unknown]
, [1: Primary]
, [2: Overview]
, ...6 more...
)
-
Tag
(
type: esriFieldTypeString, alias: Tag, length: 100
)
-
GroupName
(
type: esriFieldTypeString, alias: GroupName, length: 100
)
-
ProductName
(
type: esriFieldTypeString, alias: ProductName, length: 100
)
-
CenterX
(
type: esriFieldTypeDouble, alias: CenterX
)
-
CenterY
(
type: esriFieldTypeDouble, alias: CenterY
)
-
ZOrder
(
type: esriFieldTypeInteger, alias: ZOrder
)
-
Shape_Length
(
type: esriFieldTypeDouble, alias: Shape_Length
)
-
Shape_Area
(
type: esriFieldTypeDouble, alias: Shape_Area
)
Default Mosaic Method: None
Allowed Mosaic Methods: None
SortField: N/A
SortValue: N/A
Mosaic Operator: First
Default Compression Quality: 75
Default Resampling Method: Nearest
Max Record Count: 1000
Max Image Height: 4100
Max Image Width: 15000
Max Download Image Count: 20
Max Mosaic Image Count: 20
Allow Raster Function: true
Allow Compute TiePoints: false
Supports Statistics: true
Supports Advanced Queries: true
Use StandardizedQueries: true
Raster Type Infos:
Name: Raster Dataset
Description: Supports all ArcGIS Raster Datasets
Help:
Has Raster Attribute Table: false
Edit Fields Info: null
Ownership Based AccessControl For Rasters: null
Child Resources:
Info
Histograms
Key Properties
Legend
MultiDimensionalInfo
rasterFunctionInfos
Supported Operations:
Export Image
Query
Identify
Measure
Compute Histograms
Compute Statistics Histograms
Get Samples
Compute Class Statistics
Query Boundary
Compute Pixel Location