{
 "currentVersion": 10.71,
 "serviceDescription": "gfed/MODIS_L2_gridded_dailyFireCount",
 "name": "gfed/MODIS_L2_gridded_dailyFireCount",
 "description": "",
 "extent": {
  "xmin": -180,
  "ymin": -90,
  "xmax": 180,
  "ymax": 90,
  "spatialReference": {
   "wkid": 4326,
   "latestWkid": 4326
  }
 },
 "initialExtent": {
  "xmin": -180,
  "ymin": -90,
  "xmax": 180,
  "ymax": 90,
  "spatialReference": {
   "wkid": 4326,
   "latestWkid": 4326
  }
 },
 "fullExtent": {
  "xmin": -180,
  "ymin": -90,
  "xmax": 180,
  "ymax": 90,
  "spatialReference": {
   "wkid": 4326,
   "latestWkid": 4326
  }
 },
 "timeInfo": {
  "startTimeField": "Date",
  "endTimeField": null,
  "timeExtent": [
   1041379200000,
   1648771200000
  ],
  "timeReference": null
 },
 "pixelSizeX": 0.25,
 "pixelSizeY": 0.25,
 "bandCount": 32,
 "pixelType": "S32",
 "minPixelSize": 0,
 "maxPixelSize": 0,
 "copyrightText": "",
 "serviceDataType": "esriImageServiceDataTypeGeneric",
 "minValues": [
  2.130859375,
  0.525390625,
  0.232421875,
  0.291015625,
  0.537109375,
  0.123046875,
  0.19921875,
  0.33984375,
  0.14453125,
  0.11328125,
  0.173828125,
  0.16015625,
  0.234375,
  0.333984375,
  0.154296875,
  0.12890625,
  0.1171875,
  0.134765625,
  0.109375,
  0.126953125,
  0.138671875,
  0.115234375,
  0.09375,
  0.353515625,
  0.083984375,
  0.212890625,
  0.12890625,
  0.119140625,
  0.1640625,
  0.197265625,
  0.4140625,
  0.462890625
 ],
 "maxValues": [
  1088.87109375,
  268.4765625,
  118.767578125,
  148.7109375,
  274.462890625,
  67.869140625,
  101.802734375,
  173.662109375,
  73.85546875,
  63.876953125,
  88.826171875,
  99.806640625,
  119.767578125,
  170.666015625,
  78.84765625,
  65.87109375,
  59.8828125,
  68.8671875,
  55.890625,
  76.8515625,
  70.86328125,
  75.853515625,
  56.890625,
  180.6484375,
  88.828125,
  108.787109375,
  104.796875,
  92.8203125,
  83.837890625,
  100.802734375,
  211.587890625,
  236.537109375
 ],
 "meanValues": [
  2.4905175245732116,
  0.5423319315812386,
  0.2510713275176899,
  0.3127541012105963,
  0.5585563448927865,
  0.14550540963290412,
  0.22214896703733916,
  0.3581257433970045,
  0.16299913774114347,
  0.13070472105147896,
  0.1932912628909186,
  0.17817997059631063,
  0.2506223363498776,
  0.3508741293653585,
  0.17411457465164018,
  0.14990942322704676,
  0.13563035470457271,
  0.14845403784148672,
  0.12181844163542795,
  0.1395065265384422,
  0.1517584874808341,
  0.1274278307216944,
  0.10557634760258264,
  0.36402793617813306,
  0.09655641214291402,
  0.2268801687169738,
  0.14067610749503948,
  0.1291242165571716,
  0.1732614139333605,
  0.20678678236821668,
  0.4259645273594047,
  0.47436699060672044
 ],
 "stdvValues": [
  5.630645172969912,
  0.5376460163004949,
  0.4121090217304266,
  0.5247164671982385,
  0.6605324042344637,
  0.45792214800213454,
  0.5196409855374896,
  0.4483389157605315,
  0.3964944463675686,
  0.33400021389635504,
  0.4395357455247749,
  0.3778738773699696,
  0.40901241280328343,
  0.39664713748906105,
  0.4079032033412277,
  0.40859845306246306,
  0.3543842223943649,
  0.35543639458773724,
  0.2931515724453198,
  0.33344452539818065,
  0.31870959772342355,
  0.30416054053639774,
  0.3085708416997409,
  0.32663589785774055,
  0.3008479520911257,
  0.33663629258069744,
  0.3330993189069963,
  0.27827009408269626,
  0.27888443853394773,
  0.3117281380441614,
  0.5302144114505813,
  0.42446441292388454
 ],
 "objectIdField": "OBJECTID",
 "fields": [
  {
   "name": "OBJECTID",
   "type": "esriFieldTypeOID",
   "alias": "OBJECTID",
   "domain": null
  },
  {
   "name": "Shape",
   "type": "esriFieldTypeGeometry",
   "alias": "Shape",
   "domain": null
  },
  {
   "name": "Name",
   "type": "esriFieldTypeString",
   "alias": "Name",
   "domain": null,
   "length": 200
  },
  {
   "name": "MinPS",
   "type": "esriFieldTypeDouble",
   "alias": "MinPS",
   "domain": null
  },
  {
   "name": "MaxPS",
   "type": "esriFieldTypeDouble",
   "alias": "MaxPS",
   "domain": null
  },
  {
   "name": "LowPS",
   "type": "esriFieldTypeDouble",
   "alias": "LowPS",
   "domain": null
  },
  {
   "name": "HighPS",
   "type": "esriFieldTypeDouble",
   "alias": "HighPS",
   "domain": null
  },
  {
   "name": "Category",
   "type": "esriFieldTypeInteger",
   "alias": "Category",
   "domain": {
    "type": "codedValue",
    "name": "MosaicCatalogItemCategoryDomain",
    "description": "Catalog item categories.",
    "codedValues": [
     {
      "name": "Unknown",
      "code": 0
     },
     {
      "name": "Primary",
      "code": 1
     },
     {
      "name": "Overview",
      "code": 2
     },
     {
      "name": "Unprocessed Overview",
      "code": 3
     },
     {
      "name": "Partial Overview",
      "code": 4
     },
     {
      "name": "Inactive",
      "code": 5
     },
     {
      "name": "Uploaded",
      "code": 253
     },
     {
      "name": "Incomplete",
      "code": 254
     },
     {
      "name": "Custom",
      "code": 255
     }
    ],
    "mergePolicy": "esriMPTDefaultValue",
    "splitPolicy": "esriSPTDefaultValue"
   }
  },
  {
   "name": "Tag",
   "type": "esriFieldTypeString",
   "alias": "Tag",
   "domain": null,
   "length": 100
  },
  {
   "name": "GroupName",
   "type": "esriFieldTypeString",
   "alias": "GroupName",
   "domain": null,
   "length": 100
  },
  {
   "name": "ProductName",
   "type": "esriFieldTypeString",
   "alias": "ProductName",
   "domain": null,
   "length": 100
  },
  {
   "name": "CenterX",
   "type": "esriFieldTypeDouble",
   "alias": "CenterX",
   "domain": null
  },
  {
   "name": "CenterY",
   "type": "esriFieldTypeDouble",
   "alias": "CenterY",
   "domain": null
  },
  {
   "name": "ZOrder",
   "type": "esriFieldTypeInteger",
   "alias": "ZOrder",
   "domain": null
  },
  {
   "name": "Shape_Length",
   "type": "esriFieldTypeDouble",
   "alias": "Shape_Length",
   "domain": null
  },
  {
   "name": "Shape_Area",
   "type": "esriFieldTypeDouble",
   "alias": "Shape_Area",
   "domain": null
  }
 ],
 "capabilities": "Image,Metadata,Catalog,Mensuration",
 "defaultMosaicMethod": "None",
 "allowedMosaicMethods": "None",
 "mosaicOperator": "First",
 "maxDownloadSizeLimit": 2048,
 "defaultCompressionQuality": 75,
 "defaultResamplingMethod": "Nearest",
 "maxImageHeight": 4100,
 "maxImageWidth": 15000,
 "maxRecordCount": 1000,
 "maxDownloadImageCount": 20,
 "maxMosaicImageCount": 20,
 "allowRasterFunction": true,
 "rasterFunctionInfos": [
  {
   "name": "None",
   "description": "A No-Op Function.",
   "help": ""
  }
 ],
 "rasterTypeInfos": [
  {
   "name": "Raster Dataset",
   "description": "Supports all ArcGIS Raster Datasets",
   "help": ""
  }
 ],
 "mensurationCapabilities": "Basic",
 "hasHistograms": true,
 "hasColormap": false,
 "hasRasterAttributeTable": false,
 "minScale": 0,
 "maxScale": 0,
 "exportTilesAllowed": false,
 "hasMultidimensions": false,
 "supportsStatistics": true,
 "supportsAdvancedQueries": true,
 "editFieldsInfo": null,
 "ownershipBasedAccessControlForRasters": null,
 "allowComputeTiePoints": false,
 "useStandardizedQueries": true,
 "advancedQueryCapabilities": {
  "useStandardizedQueries": true,
  "supportsStatistics": true,
  "supportsOrderBy": true,
  "supportsDistinct": true,
  "supportsPagination": true
 },
 "spatialReference": {
  "wkid": 4326,
  "latestWkid": 4326
 }
}
