View In:
ArcGIS JavaScript
ArcGIS Online Map Viewer
ArcGIS Earth
ArcMap
View Footprint In:
ArcGIS Online Map Viewer
Service Description: Aviation noise inventory for 649 airports in the Contiguous United States calculated using the Aviation Environmental Design Tool (AEDT) for the year 2014, and road noise inventory for the Continental United States calculated using Average Annual Daily Traffic (AADT) values from the FHWA Highway Performance Monitoring System (HPMS) and acoustical algorithms from the Traffic Noise Model (TNM) for the year 2014. The aircraft and road noise inventories were acoustically summed to produce the composite layers.
Name: arc_afs/CONUS_road_and_aviation_noise_mosaic
Description: Aviation noise inventory for 649 airports in the Contiguous United States calculated using the Aviation Environmental Design Tool (AEDT) for the year 2014, and road noise inventory for the Continental United States calculated using Average Annual Daily Traffic (AADT) values from the FHWA Highway Performance Monitoring System (HPMS) and acoustical algorithms from the Traffic Noise Model (TNM) for the year 2014. The aircraft and road noise inventories were acoustically summed to produce the composite layers.
Single Fused Map Cache: false
Extent:
XMin: -2353800
YMin: 277260
XMax: 2254470
YMax: 3172200
Spatial Reference: 102039
(102039)
Initial Extent:
XMin: -2353800
YMin: 277260
XMax: 2254470
YMax: 3172200
Spatial Reference: 102039
(102039)
Full Extent:
XMin: -2353800
YMin: 277260
XMax: 2254470
YMax: 3172200
Spatial Reference: 102039
(102039)
Pixel Size X: 30.0
Pixel Size Y: 30.0
Band Count: 1
Pixel Type: F32
RasterFunction Infos: {"rasterFunctionInfos": [{
"name": "None",
"description": "",
"help": ""
}]}
Mensuration Capabilities: Basic
Has Histograms: true
Has Colormap: false
Has Multi Dimensions : false
Rendering Rule:
Min Scale: 0
Max Scale: 0
Copyright Text:
Service Data Type: esriImageServiceDataTypeGeneric
Min Values: 35
Max Values: 124.88349151611328
Mean Values: 45.11255845222388
Standard Deviation Values: 8.600159264968223
Object ID Field: OBJECTID
Fields:
-
OBJECTID
(
type: esriFieldTypeOID, alias: OBJECTID
)
-
Shape
(
type: esriFieldTypeGeometry, alias: Shape
)
-
Name
(
type: esriFieldTypeString, alias: Name, length: 200
)
-
MinPS
(
type: esriFieldTypeDouble, alias: MinPS
)
-
MaxPS
(
type: esriFieldTypeDouble, alias: MaxPS
)
-
LowPS
(
type: esriFieldTypeDouble, alias: LowPS
)
-
HighPS
(
type: esriFieldTypeDouble, alias: HighPS
)
-
Category
(
type: esriFieldTypeInteger, alias: Category
, Coded Values:
[0: Unknown]
, [1: Primary]
, [2: Overview]
, ...6 more...
)
-
Tag
(
type: esriFieldTypeString, alias: Tag, length: 100
)
-
GroupName
(
type: esriFieldTypeString, alias: GroupName, length: 100
)
-
ProductName
(
type: esriFieldTypeString, alias: ProductName, length: 100
)
-
CenterX
(
type: esriFieldTypeDouble, alias: CenterX
)
-
CenterY
(
type: esriFieldTypeDouble, alias: CenterY
)
-
ZOrder
(
type: esriFieldTypeInteger, alias: ZOrder
)
-
Shape_Length
(
type: esriFieldTypeDouble, alias: Shape_Length
)
-
Shape_Area
(
type: esriFieldTypeDouble, alias: Shape_Area
)
Default Mosaic Method: Northwest
Allowed Mosaic Methods: NorthWest,Center,LockRaster,ByAttribute,Nadir,Viewpoint,Seamline,None
SortField:
SortValue: null
Mosaic Operator: First
Default Compression Quality: 75
Default Resampling Method: Bilinear
Max Record Count: 1000
Max Image Height: 4100
Max Image Width: 15000
Max Download Image Count: 20
Max Mosaic Image Count: 20
Allow Raster Function: true
Allow Copy: true
Allow Analysis: true
Allow Compute TiePoints: false
Supports Statistics: true
Supports Advanced Queries: true
Use StandardizedQueries: true
Raster Type Infos:
Name: Raster Dataset
Description: Supports all ArcGIS Raster Datasets
Help:
Has Raster Attribute Table: false
Edit Fields Info: null
Ownership Based AccessControl For Rasters: null
Child Resources:
Info
Histograms
Statistics
Key Properties
Legend
Raster Function Infos
Supported Operations:
Export Image
Query
Identify
Measure
Compute Histograms
Compute Statistics Histograms
Get Samples
Compute Class Statistics
Query Boundary
Compute Pixel Location
Compute Angles
Validate
Project