{
 "currentVersion": 10.71,
 "serviceDescription": "gfed/MODIS_L2_gridded_monthlyFireCount",
 "name": "gfed/MODIS_L2_gridded_monthlyFireCount",
 "description": "",
 "extent": {
  "xmin": -180,
  "ymin": -90,
  "xmax": 180,
  "ymax": 90,
  "spatialReference": {
   "wkid": 4326,
   "latestWkid": 4326
  }
 },
 "initialExtent": {
  "xmin": -180,
  "ymin": -90,
  "xmax": 180,
  "ymax": 90,
  "spatialReference": {
   "wkid": 4326,
   "latestWkid": 4326
  }
 },
 "fullExtent": {
  "xmin": -180,
  "ymin": -90,
  "xmax": 180,
  "ymax": 90,
  "spatialReference": {
   "wkid": 4326,
   "latestWkid": 4326
  }
 },
 "timeInfo": {
  "startTimeField": "Date",
  "endTimeField": null,
  "timeExtent": [
   1072828800000,
   1672444800000
  ],
  "timeReference": null,
  "defaultTimeInterval": -1.5395947162718432E78,
  "defaultTimeIntervalUnits": "esriTimeUnitsUnknown"
 },
 "pixelSizeX": 0.25,
 "pixelSizeY": 0.25,
 "bandCount": 13,
 "pixelType": "S32",
 "minPixelSize": 0,
 "maxPixelSize": 0,
 "copyrightText": "",
 "serviceDataType": "esriImageServiceDataTypeGeneric",
 "minValues": [
  9.181640625,
  2.9140625,
  1.107421875,
  1.294921875,
  1.076171875,
  1.416015625,
  1.740234375,
  2.041015625,
  1.826171875,
  1.14453125,
  1.30859375,
  0.986328125,
  0.736328125
 ],
 "maxValues": [
  8240.873046875,
  1489.0859375,
  857.322265625,
  857.322265625,
  796.44140625,
  723.583984375,
  889.259765625,
  1042.958984375,
  933.173828125,
  584.85546875,
  668.69140625,
  841.353515625,
  761.509765625
 ],
 "meanValues": [
  17.278273161711468,
  3.2612136863426033,
  1.661631998697962,
  1.7713140597873072,
  1.6994574155454347,
  1.8132462489751429,
  2.0717342529296783,
  2.5057403941213754,
  2.3995038896724505,
  1.6463172411506075,
  1.6904749288676209,
  1.6501270751953057,
  1.5077401846425942
 ],
 "stdvValues": [
  31.07022129727168,
  6.645208122188185,
  3.5250553171454078,
  3.893747732031815,
  4.744892429783538,
  6.873329377412967,
  5.6303769998632,
  6.998672625015526,
  7.027387763992045,
  5.836180073086233,
  4.850202526192401,
  4.166116776001957,
  5.159799679402232
 ],
 "objectIdField": "OBJECTID",
 "fields": [
  {
   "name": "OBJECTID",
   "type": "esriFieldTypeOID",
   "alias": "OBJECTID",
   "domain": null
  },
  {
   "name": "Shape",
   "type": "esriFieldTypeGeometry",
   "alias": "Shape",
   "domain": null
  },
  {
   "name": "Name",
   "type": "esriFieldTypeString",
   "alias": "Name",
   "domain": null,
   "length": 200
  },
  {
   "name": "MinPS",
   "type": "esriFieldTypeDouble",
   "alias": "MinPS",
   "domain": null
  },
  {
   "name": "MaxPS",
   "type": "esriFieldTypeDouble",
   "alias": "MaxPS",
   "domain": null
  },
  {
   "name": "LowPS",
   "type": "esriFieldTypeDouble",
   "alias": "LowPS",
   "domain": null
  },
  {
   "name": "HighPS",
   "type": "esriFieldTypeDouble",
   "alias": "HighPS",
   "domain": null
  },
  {
   "name": "Category",
   "type": "esriFieldTypeInteger",
   "alias": "Category",
   "domain": {
    "type": "codedValue",
    "name": "MosaicCatalogItemCategoryDomain",
    "description": "Catalog item categories.",
    "codedValues": [
     {
      "name": "Unknown",
      "code": 0
     },
     {
      "name": "Primary",
      "code": 1
     },
     {
      "name": "Overview",
      "code": 2
     },
     {
      "name": "Unprocessed Overview",
      "code": 3
     },
     {
      "name": "Partial Overview",
      "code": 4
     },
     {
      "name": "Inactive",
      "code": 5
     },
     {
      "name": "Uploaded",
      "code": 253
     },
     {
      "name": "Incomplete",
      "code": 254
     },
     {
      "name": "Custom",
      "code": 255
     }
    ],
    "mergePolicy": "esriMPTDefaultValue",
    "splitPolicy": "esriSPTDefaultValue"
   }
  },
  {
   "name": "Tag",
   "type": "esriFieldTypeString",
   "alias": "Tag",
   "domain": null,
   "length": 100
  },
  {
   "name": "GroupName",
   "type": "esriFieldTypeString",
   "alias": "GroupName",
   "domain": null,
   "length": 100
  },
  {
   "name": "ProductName",
   "type": "esriFieldTypeString",
   "alias": "ProductName",
   "domain": null,
   "length": 100
  },
  {
   "name": "CenterX",
   "type": "esriFieldTypeDouble",
   "alias": "CenterX",
   "domain": null
  },
  {
   "name": "CenterY",
   "type": "esriFieldTypeDouble",
   "alias": "CenterY",
   "domain": null
  },
  {
   "name": "ZOrder",
   "type": "esriFieldTypeInteger",
   "alias": "ZOrder",
   "domain": null
  },
  {
   "name": "Shape_Length",
   "type": "esriFieldTypeDouble",
   "alias": "Shape_Length",
   "domain": null
  },
  {
   "name": "Shape_Area",
   "type": "esriFieldTypeDouble",
   "alias": "Shape_Area",
   "domain": null
  },
  {
   "name": "Date",
   "type": "esriFieldTypeDate",
   "alias": "Date",
   "domain": null,
   "length": 8
  }
 ],
 "capabilities": "Image,Metadata,Catalog,Mensuration",
 "defaultMosaicMethod": "Northwest",
 "allowedMosaicMethods": "NorthWest,Center,LockRaster,ByAttribute,Nadir,Viewpoint,Seamline,None",
 "sortField": "",
 "sortValue": null,
 "mosaicOperator": "First",
 "maxDownloadSizeLimit": 2048,
 "defaultCompressionQuality": 75,
 "defaultResamplingMethod": "Nearest",
 "maxImageHeight": 4100,
 "maxImageWidth": 15000,
 "maxRecordCount": 1000,
 "maxDownloadImageCount": 20,
 "maxMosaicImageCount": 20,
 "allowRasterFunction": true,
 "rasterFunctionInfos": [
  {
   "name": "None",
   "description": "A No-Op Function.",
   "help": ""
  }
 ],
 "rasterTypeInfos": [
  {
   "name": "Raster Dataset",
   "description": "Supports all ArcGIS Raster Datasets",
   "help": ""
  }
 ],
 "mensurationCapabilities": "Basic",
 "hasHistograms": true,
 "hasColormap": false,
 "hasRasterAttributeTable": false,
 "minScale": 0,
 "maxScale": 0,
 "exportTilesAllowed": false,
 "hasMultidimensions": false,
 "supportsStatistics": true,
 "supportsAdvancedQueries": true,
 "editFieldsInfo": null,
 "ownershipBasedAccessControlForRasters": null,
 "allowComputeTiePoints": false,
 "useStandardizedQueries": true,
 "advancedQueryCapabilities": {
  "useStandardizedQueries": true,
  "supportsStatistics": true,
  "supportsOrderBy": true,
  "supportsDistinct": true,
  "supportsPagination": true
 },
 "spatialReference": {
  "wkid": 4326,
  "latestWkid": 4326
 }
}
